BEGIN:VCALENDAR
VERSION:2.0
PRODID:-//ChamberMaster//Event Calendar 2.0//EN
METHOD:PUBLISH
X-PUBLISHED-TTL:P3D
REFRESH-INTERVAL:P3D
CALSCALE:GREGORIAN
BEGIN:VEVENT
DTSTART:20250602T210000Z
DTEND:20250602T230000Z
X-MICROSOFT-CDO-ALLDAYEVENT:FALSE
SUMMARY:Understanding Food Costs and Pricing
DESCRIPTION:Join Butte College SBDC for a 2-hour workshop on understanding food costs and pricing. This training is for both existing and startup restaurants and food businesses.\n\n\n\nTopics will include: Understanding profit and loss statements\; Industry benchmarks for food costs\; How to work from a budget\; Industry techniques for calculating plate costs\; How to price for profitability\; and best practice for managing inventory.
X-ALT-DESC;FMTTYPE=text/html:Join Butte College SBDC for a 2-hour workshop on understanding food costs and pricing. This training is for both existing and startup restaurants and food businesses.<br />\n<br />\nTopics will include: Understanding profit and loss statements\; Industry benchmarks for food costs\; How to work from a budget\; Industry techniques for calculating plate costs\; How to price for profitability\; and best practice for managing inventory.
LOCATION:Location: Colusa City Hall\,
UID:e.2970.47298
SEQUENCE:3
DTSTAMP:20260420T102148Z
URL:https://paradisechamber-gzcms.preview.gochambermaster.com/events/details/understanding-food-costs-and-pricing-06-02-2025-47298
END:VEVENT

END:VCALENDAR
