BEGIN:VCALENDAR
VERSION:2.0
PRODID:-//ChamberMaster//Event Calendar 2.0//EN
METHOD:PUBLISH
X-PUBLISHED-TTL:P3D
REFRESH-INTERVAL:P3D
CALSCALE:GREGORIAN
BEGIN:VEVENT
DTSTART:20250413T000000Z
DTEND:20250413T020000Z
X-MICROSOFT-CDO-ALLDAYEVENT:FALSE
SUMMARY:"Spring Medley of Mediums"
DESCRIPTION:The Paradise Art Center's Art Show "Spring Medley of Mediums" will hold their Opening Reception on Saturday April 12. The reception will go from 5 - 7 p.m. The Art Show will go until May 10. Join your friends at the Paradise Art Center Wheeler Gallery 5564 Almond St. In Paradise. The reception is free to all. Refreshments and libations will be served. Artists include Renee Chritenson\, Jennie Myers\, Christine McShane\, Edith Areyta\, Jeff Jenke\, Enid Hewston.
X-ALT-DESC;FMTTYPE=text/html:The Paradise Art Center&rsquo\;s Art Show &quot\;Spring Medley of Mediums&quot\; will hold their Opening Reception on Saturday April 12. The reception will go from 5 - 7 p.m. The Art Show will go until May 10. Join your friends at the Paradise Art Center Wheeler Gallery 5564 Almond St. In Paradise. The reception is free to all. Refreshments and libations will be served. Artists include Renee Chritenson\, Jennie Myers\, Christine McShane\, Edith Areyta\, Jeff Jenke\, Enid Hewston.
LOCATION:Paradise Art Center
UID:e.2970.47273
SEQUENCE:3
DTSTAMP:20260421T072723Z
URL:https://paradisechamber-gzcms.preview.gochambermaster.com/events/details/spring-medley-of-mediums-47273
END:VEVENT

END:VCALENDAR
