BEGIN:VCALENDAR
VERSION:2.0
PRODID:-//ChamberMaster//Event Calendar 2.0//EN
METHOD:PUBLISH
X-PUBLISHED-TTL:P3D
REFRESH-INTERVAL:P3D
CALSCALE:GREGORIAN
BEGIN:VEVENT
DTSTART:20250911T150000Z
DTEND:20250911T210000Z
X-MICROSOFT-CDO-ALLDAYEVENT:FALSE
SUMMARY:R.E.D. Day of Service and Remembrance
DESCRIPTION:R.E.D. Day of Service and Remembrance   Remember Everyone Deployed Is a call for VETERANS to come together for a day of Service\, Fellowship and Reflection. In honor of those who lost their lives in the Sept.11\, 2001 attack and those who were deployed as a result. This service day will include: A moment of Silence A speaker Gathering together to build a Fence on A Habitat Property Lunch Commemorative T-Shirt
X-ALT-DESC;FMTTYPE=text/html:R.E.D. Day of Service and Remembrance &ndash\; Remember Everyone Deployed Is a call for VETERANS to come together for a day of Service\, Fellowship and Reflection. In honor of those who lost their lives in the Sept.11\, 2001 attack and those who were deployed as a result. This service day will include: A moment of Silence A speaker Gathering together to build a Fence on A Habitat Property Lunch Commemorative T-Shirt
LOCATION:5870 Copeland Rd
UID:e.2970.48484
SEQUENCE:3
DTSTAMP:20260421T102701Z
URL:https://paradisechamber-gzcms.preview.gochambermaster.com/events/details/r-e-d-day-of-service-and-remembrance-48484
END:VEVENT

END:VCALENDAR
