BEGIN:VCALENDAR
VERSION:2.0
PRODID:-//ChamberMaster//Event Calendar 2.0//EN
METHOD:PUBLISH
X-PUBLISHED-TTL:P3D
REFRESH-INTERVAL:P3D
CALSCALE:GREGORIAN
BEGIN:VEVENT
DTSTART;VALUE=DATE:20250607
DTEND;VALUE=DATE:20250609
TRANSP:TRANSPARENT
X-MICROSOFT-CDO-ALLDAYEVENT:TRUE
SUMMARY:Paradise Garden Tour 2025
DESCRIPTION:This year the tour will feature examples\, tips\, tricks\, handy hints\, and demonstrations for bringing yards and gardens back to life. Our tagline this year is "Watch Us Grow!"\n\n\n\nThis is a self-guided\, driving/strolling tour of privately owned gardens in Paradise. At the Tour Hub (the center of operations\, demonstrations\, and other information) you'll find a big Plant Sale and our Gardener's Boutique.
X-ALT-DESC;FMTTYPE=text/html:<span style="color: rgb(0\, 0\, 0)\; font-family: &quot\;Lucida Sans Unicode&quot\;\, &quot\;Lucida Grande&quot\;\, sans-serif\; font-size: medium\;">This year the tour will feature examples\, tips\, tricks\, handy hints\, and demonstrations for bringing yards and gardens back to life. Our tagline this year is &quot\;Watch Us Grow!&quot\;<br />\n<br />\nThis is a self-guided\, driving/strolling tour of privately owned gardens in Paradise. At the Tour Hub (the center of operations\, demonstrations\, and other information) you&#39\;ll find a big Plant Sale and our Gardener&#39\;s Boutique.</span>
LOCATION:HUB LOCATION: Cobblestone Court Parking Lot Near Butte Fire Safe Council
UID:e.2970.47148
SEQUENCE:3
DTSTAMP:20260420T084942Z
URL:https://paradisechamber-gzcms.preview.gochambermaster.com/events/details/paradise-garden-tour-2025-47148
END:VEVENT

END:VCALENDAR
