BEGIN:VCALENDAR
VERSION:2.0
PRODID:-//ChamberMaster//Event Calendar 2.0//EN
METHOD:PUBLISH
X-PUBLISHED-TTL:P3D
REFRESH-INTERVAL:P3D
CALSCALE:GREGORIAN
BEGIN:VEVENT
DTSTART:20250510T170000Z
DTEND:20250511T000000Z
X-MICROSOFT-CDO-ALLDAYEVENT:FALSE
SUMMARY:Paradise Chocolate Fest
DESCRIPTION:20th Anniversary Celebration of the Paradise Chocolate Fest is the place to indulge your love of all thing chocolate! The Fest features Chocolate Candy Land where you can dip into decadence at the chocolate fountain or visit chocolate booths and professional Chocolatiers with countless chocolate delicacies\, desserts\, confections and scoops of yummy ice cream for sale. Fest highlights include Queen & King Coronation\, Art in the Park\; All About Books\; Young Authors Writing Contest\; Kidz-Zone\; Craft & Commercial Vendors\; Chocolate\, Beer & Wine Garden and Concerts on 2 Stages! Special events throughout the day include a Chocolate Cuisine Challenge\; Chocolate Pie and Ice Cream Eating Contests\, Golden Ticket Hat Contest and much more Fun for all ages!
X-ALT-DESC;FMTTYPE=text/html:20th Anniversary Celebration of the Paradise Chocolate Fest is the place to indulge your love of all thing chocolate! The Fest features Chocolate Candy Land where you can dip into decadence at the chocolate fountain or visit chocolate booths and professional Chocolatiers with countless chocolate delicacies\, desserts\, confections and scoops of yummy ice cream for sale. Fest highlights include Queen &amp\; King Coronation\, Art in the Park\; All About Books\; Young Authors Writing Contest\; Kidz-Zone\; Craft &amp\; Commercial Vendors\; Chocolate\, Beer &amp\; Wine Garden and Concerts on 2 Stages! Special events throughout the day include a Chocolate Cuisine Challenge\; Chocolate Pie and Ice Cream Eating Contests\, Golden Ticket Hat Contest and much more Fun for all ages!
LOCATION:Terry Ashe Park
UID:e.2970.46981
SEQUENCE:3
DTSTAMP:20260420T085054Z
URL:https://paradisechamber-gzcms.preview.gochambermaster.com/events/details/paradise-chocolate-fest-05-10-2025-46981
END:VEVENT

END:VCALENDAR
