BEGIN:VCALENDAR
VERSION:2.0
PRODID:-//ChamberMaster//Event Calendar 2.0//EN
METHOD:PUBLISH
X-PUBLISHED-TTL:P3D
REFRESH-INTERVAL:P3D
CALSCALE:GREGORIAN
BEGIN:VEVENT
DTSTART:20250412T170000Z
DTEND:20250412T190000Z
X-MICROSOFT-CDO-ALLDAYEVENT:FALSE
SUMMARY:Magalia Easter Egg Hunt and More!
DESCRIPTION:Paradise Recreation and Park District brings the fun & games this year to Magalia Community Park for their annual Easter Egg Hunt! Bring the kids for a morning of fun (and candy)\, games and more. A Neighbor to Neighbor Event.
X-ALT-DESC;FMTTYPE=text/html:Paradise Recreation and Park District brings the fun &amp\; games this year to Magalia Community Park for their annual Easter Egg Hunt! Bring the kids for a morning of fun (and candy)\, games and more. A Neighbor to Neighbor Event.
LOCATION:Magalia Community Park (just off the Skyway at the corner of Andover and South Park Drive)
UID:e.2970.47231
SEQUENCE:3
DTSTAMP:20260421T072709Z
URL:https://paradisechamber-gzcms.preview.gochambermaster.com/events/details/magalia-easter-egg-hunt-and-more-47231
END:VEVENT

END:VCALENDAR
