BEGIN:VCALENDAR
VERSION:2.0
PRODID:-//ChamberMaster//Event Calendar 2.0//EN
METHOD:PUBLISH
X-PUBLISHED-TTL:P3D
REFRESH-INTERVAL:P3D
CALSCALE:GREGORIAN
BEGIN:VEVENT
DTSTART:20250918T190000Z
DTEND:20250918T200000Z
X-MICROSOFT-CDO-ALLDAYEVENT:FALSE
SUMMARY:Lunch & Learn with 3CORE\, Inc.
DESCRIPTION:Join us for a casual and informative Lunch & Learn hosted by 3CORE \n\nThis session will introduce local entrepreneurs and small business owners to the wide range of resources and support services offered by 3CORE. Learn how they work with clients from the initial intake process to navigating business support programs and what it takes to get "loan ready." The discussion will also highlight how 3CORE partners with local business support professionals to help business owners access capital\, plan for growth\, and connect with the tools they need to succeed.\n\n\n\nCome with questions\, leave with clarity and enjoy lunch on us while you're at it!
X-ALT-DESC;FMTTYPE=text/html:<p data-end="455" data-start="100">Join us for a casual and informative Lunch &amp\; Learn hosted by 3CORE&nbsp\;<br />\nThis session will introduce local entrepreneurs and small business owners to the wide range of resources and support services offered by 3CORE. Learn how they work with clients&mdash\;from the initial intake process to navigating business support programs&mdash\;and what it takes to get &ldquo\;loan ready.&rdquo\; The discussion will also highlight how 3CORE partners with local business support professionals to help business owners access capital\, plan for growth\, and connect with the tools they need to succeed.<br />\n<br />\nCome with questions\, leave with clarity&mdash\;and enjoy lunch on us while you&#39\;re at it!</p>\n
LOCATION:
UID:e.2970.48532
SEQUENCE:3
DTSTAMP:20260419T135310Z
URL:https://paradisechamber-gzcms.preview.gochambermaster.com/events/details/lunch-learn-with-3core-inc-48532
END:VEVENT

END:VCALENDAR
