BEGIN:VCALENDAR
VERSION:2.0
PRODID:-//ChamberMaster//Event Calendar 2.0//EN
METHOD:PUBLISH
X-PUBLISHED-TTL:P3D
REFRESH-INTERVAL:P3D
CALSCALE:GREGORIAN
BEGIN:VEVENT
DTSTART:20250731T010000Z
DTEND:20250731T023000Z
X-MICROSOFT-CDO-ALLDAYEVENT:FALSE
SUMMARY:Hope Summer Nights: Water Night
DESCRIPTION:https://www.hopechurchparadise.com/hopesummernightsJoin us for an evening of giggles\, games\, and GOOD\, CLEAN (wet!) FUN! Perfect for kids of all ages   and yes\, parents can play too! Dinner\, large splash pads and epic balloon battles included   just bring your smiles (and maybe a towel!)
X-ALT-DESC;FMTTYPE=text/html:<a href="https://www.hopechurchparadise.com/hopesummernights">https://www.hopechurchparadise.com/hopesummernights</a>Join us for an evening of giggles\, games\, and GOOD\, CLEAN (wet!) FUN! Perfect for kids of all ages &mdash\; and yes\, parents can play too! Dinner\, large splash pads and epic balloon battles included &mdash\; just bring your smiles (and maybe a towel!)
LOCATION:Hope Church Paradise
UID:e.2970.48317
SEQUENCE:3
DTSTAMP:20260420T051532Z
URL:https://paradisechamber-gzcms.preview.gochambermaster.com/events/details/hope-summer-nights-water-night-48317
END:VEVENT

END:VCALENDAR
