BEGIN:VCALENDAR
VERSION:2.0
PRODID:-//ChamberMaster//Event Calendar 2.0//EN
METHOD:PUBLISH
X-PUBLISHED-TTL:P3D
REFRESH-INTERVAL:P3D
CALSCALE:GREGORIAN
BEGIN:VEVENT
DTSTART:20250418T230000Z
DTEND:20250419T010000Z
X-MICROSOFT-CDO-ALLDAYEVENT:FALSE
SUMMARY:Good Friday service
DESCRIPTION:Good Friday service. Join us after the service for refreshments..
X-ALT-DESC;FMTTYPE=text/html:Good Friday service. Join us after the service for refreshments..
LOCATION:Paradise First Christian Church (intersection of Pearson & Pentz rd)
UID:e.2970.47291
SEQUENCE:3
DTSTAMP:20260421T120143Z
URL:https://paradisechamber-gzcms.preview.gochambermaster.com/events/details/good-friday-service-04-18-2025-47291
END:VEVENT

END:VCALENDAR
