BEGIN:VCALENDAR
VERSION:2.0
PRODID:-//ChamberMaster//Event Calendar 2.0//EN
METHOD:PUBLISH
X-PUBLISHED-TTL:P3D
REFRESH-INTERVAL:P3D
CALSCALE:GREGORIAN
BEGIN:VEVENT
DTSTART:20250227T030000Z
DTEND:20250227T043000Z
X-MICROSOFT-CDO-ALLDAYEVENT:FALSE
SUMMARY:BYU Ballroom Dance Company
DESCRIPTION:BYU's Ballroom Dance Company is recognized both nationally and internationally as a unique university dance ensemble. Their new show\, Rhythm\, is a show presenting ballroom dance in a theatrical environment with a contemporary point of view. Dances range from a romantic waltz to the infectious rhythms of Latin America\, with surprises throughout the performance in a family-friendly show.
X-ALT-DESC;FMTTYPE=text/html:BYU&rsquo\;s Ballroom Dance Company is recognized both nationally and internationally as a unique university dance ensemble. Their new show\, Rhythm\, is a show presenting ballroom dance in a theatrical environment with a contemporary point of view. Dances range from a romantic waltz to the infectious rhythms of Latin America\, with surprises throughout the performance in a family-friendly show.
LOCATION:Paradise Performing Arts Center 777 Nunneley Rd
UID:e.2970.47162
SEQUENCE:3
DTSTAMP:20260422T235121Z
URL:https://paradisechamber-gzcms.preview.gochambermaster.com/events/details/byu-ballroom-dance-company-47162
END:VEVENT

END:VCALENDAR
