BEGIN:VCALENDAR
VERSION:2.0
PRODID:-//ChamberMaster//Event Calendar 2.0//EN
METHOD:PUBLISH
X-PUBLISHED-TTL:P3D
REFRESH-INTERVAL:P3D
CALSCALE:GREGORIAN
BEGIN:VEVENT
DTSTART:20250402T160000Z
DTEND:20250402T170000Z
X-MICROSOFT-CDO-ALLDAYEVENT:FALSE
SUMMARY:1 Million Cups Chico
DESCRIPTION:Join us for 1 Million Cups Chico on Wednesday\, April 2nd\, at 9 AM! Shanie Howard\, founder of Ivy Vein Digital Marketing\, will share how her business serves as a personal marketing manager for small businesses helping them streamline their online presence for maximum impact\, efficiency\, and ease. Come connect\, learn\, and share your insights with fellow entrepreneurs. Don't miss this chance to engage with Chico's startup community! ?? Learn more about Ivy Vein Digital Marketing: ivyveindigitalmarketing.com
X-ALT-DESC;FMTTYPE=text/html:Join us for 1 Million Cups Chico on Wednesday\, April 2nd\, at 9 AM! Shanie Howard\, founder of Ivy Vein Digital Marketing\, will share how her business serves as a personal marketing manager for small businesses&mdash\;helping them streamline their online presence for maximum impact\, efficiency\, and ease. Come connect\, learn\, and share your insights with fellow entrepreneurs. Don&rsquo\;t miss this chance to engage with Chico&rsquo\;s startup community! ?? Learn more about Ivy Vein Digital Marketing: ivyveindigitalmarketing.com
LOCATION:In-person: ChicoSTART\, \, Virtual: Find the Zoom link at 1millioncups.com/chico
UID:e.2970.47241
SEQUENCE:3
DTSTAMP:20260421T195046Z
URL:https://paradisechamber-gzcms.preview.gochambermaster.com/events/details/1-million-cups-chico-04-02-2025-47241
END:VEVENT

END:VCALENDAR
